BEGIN:VCALENDAR
VERSION:2.0
PRODID:-//ISD - ECPv6.15.20//NONSGML v1.0//EN
CALSCALE:GREGORIAN
METHOD:PUBLISH
X-WR-CALNAME:ISD
X-ORIGINAL-URL:https://isd-inc.com
X-WR-CALDESC:Events for ISD
REFRESH-INTERVAL;VALUE=DURATION:PT1H
X-Robots-Tag:noindex
X-PUBLISHED-TTL:PT1H
BEGIN:VTIMEZONE
TZID:America/New_York
BEGIN:DAYLIGHT
TZOFFSETFROM:-0500
TZOFFSETTO:-0400
TZNAME:EDT
DTSTART:20190310T070000
END:DAYLIGHT
BEGIN:STANDARD
TZOFFSETFROM:-0400
TZOFFSETTO:-0500
TZNAME:EST
DTSTART:20191103T060000
END:STANDARD
BEGIN:DAYLIGHT
TZOFFSETFROM:-0500
TZOFFSETTO:-0400
TZNAME:EDT
DTSTART:20200308T070000
END:DAYLIGHT
BEGIN:STANDARD
TZOFFSETFROM:-0400
TZOFFSETTO:-0500
TZNAME:EST
DTSTART:20201101T060000
END:STANDARD
BEGIN:DAYLIGHT
TZOFFSETFROM:-0500
TZOFFSETTO:-0400
TZNAME:EDT
DTSTART:20210314T070000
END:DAYLIGHT
BEGIN:STANDARD
TZOFFSETFROM:-0400
TZOFFSETTO:-0500
TZNAME:EST
DTSTART:20211107T060000
END:STANDARD
END:VTIMEZONE
BEGIN:VEVENT
DTSTART;TZID=America/New_York:20200330T083000
DTEND;TZID=America/New_York:20200330T163000
DTSTAMP:20260419T115254
CREATED:20200214T000223Z
LAST-MODIFIED:20200214T000223Z
UID:10000154-1585557000-1585585800@isd-inc.com
SUMMARY:CMMI V2.0 Upgrade
DESCRIPTION:Prior validated attendance at an Introduction to CMMI V1.3 for Development\, or Services\, or Acquisition\, is a prerequisite to attending this course.
URL:https://isd-inc.com/event/cmmi-v2-0-upgrade-2/
LOCATION:Hilton Rialto Melbourne\, Melbourne\, FL\, 32901\, United States
ORGANIZER;CN="ISD":MAILTO:info@isd-inc.com
END:VEVENT
BEGIN:VEVENT
DTSTART;TZID=America/New_York:20200327T083000
DTEND;TZID=America/New_York:20200327T163000
DTSTAMP:20260419T115254
CREATED:20200214T000021Z
LAST-MODIFIED:20200214T000021Z
UID:10000153-1585297800-1585326600@isd-inc.com
SUMMARY:High Maturity Concepts
DESCRIPTION:Foundations of Capability or the CMMI V2.0 Upgrade are a prerequisite to attending this course.
URL:https://isd-inc.com/event/high-maturity-concepts/
LOCATION:Hilton Rialto Melbourne\, Melbourne\, FL\, 32901\, United States
ORGANIZER;CN="ISD":MAILTO:info@isd-inc.com
END:VEVENT
BEGIN:VEVENT
DTSTART;TZID=America/New_York:20200326T083000
DTEND;TZID=America/New_York:20200326T163000
DTSTAMP:20260419T115254
CREATED:20200213T235854Z
LAST-MODIFIED:20200213T235854Z
UID:10000152-1585211400-1585240200@isd-inc.com
SUMMARY:Building Service Excellence
DESCRIPTION:Foundations of Capability or CMMI V2.0 Upgrade is a prerequisite to attending this class.
URL:https://isd-inc.com/event/building-service-excellence-2/
LOCATION:Hilton Rialto Melbourne\, Melbourne\, FL\, 32901\, United States
ORGANIZER;CN="ISD":MAILTO:info@isd-inc.com
END:VEVENT
BEGIN:VEVENT
DTSTART;TZID=America/New_York:20200325T083000
DTEND;TZID=America/New_York:20200325T163000
DTSTAMP:20260419T115254
CREATED:20200213T235453Z
LAST-MODIFIED:20200213T235453Z
UID:10000151-1585125000-1585153800@isd-inc.com
SUMMARY:Building Development Excellence
DESCRIPTION:Foundations of Capability or the CMMI V2.0 Upgrade are a pre-requisite to attending this course.
URL:https://isd-inc.com/event/building-development-excellence-2/
LOCATION:Hilton Rialto Melbourne\, Melbourne\, FL\, 32901\, United States
ORGANIZER;CN="ISD":MAILTO:info@isd-inc.com
END:VEVENT
BEGIN:VEVENT
DTSTART;TZID=America/New_York:20200323T083000
DTEND;TZID=America/New_York:20200324T163000
DTSTAMP:20260419T115254
CREATED:20200213T163151Z
LAST-MODIFIED:20200213T163151Z
UID:10000150-1584952200-1585067400@isd-inc.com
SUMMARY:CMMI V2.0 Foundations of Capability
DESCRIPTION:
URL:https://isd-inc.com/event/cmmi-v2-0-foundations-of-capability/
LOCATION:Hilton Rialto Melbourne\, Melbourne\, FL\, 32901\, United States
ORGANIZER;CN="ISD":MAILTO:info@isd-inc.com
END:VEVENT
END:VCALENDAR