BEGIN:VCALENDAR
VERSION:2.0
PRODID:-//ISD - ECPv6.15.20//NONSGML v1.0//EN
CALSCALE:GREGORIAN
METHOD:PUBLISH
X-WR-CALNAME:ISD
X-ORIGINAL-URL:https://isd-inc.com
X-WR-CALDESC:Events for ISD
REFRESH-INTERVAL;VALUE=DURATION:PT1H
X-Robots-Tag:noindex
X-PUBLISHED-TTL:PT1H
BEGIN:VTIMEZONE
TZID:America/New_York
BEGIN:DAYLIGHT
TZOFFSETFROM:-0500
TZOFFSETTO:-0400
TZNAME:EDT
DTSTART:20230312T070000
END:DAYLIGHT
BEGIN:STANDARD
TZOFFSETFROM:-0400
TZOFFSETTO:-0500
TZNAME:EST
DTSTART:20231105T060000
END:STANDARD
BEGIN:DAYLIGHT
TZOFFSETFROM:-0500
TZOFFSETTO:-0400
TZNAME:EDT
DTSTART:20240310T070000
END:DAYLIGHT
BEGIN:STANDARD
TZOFFSETFROM:-0400
TZOFFSETTO:-0500
TZNAME:EST
DTSTART:20241103T060000
END:STANDARD
BEGIN:DAYLIGHT
TZOFFSETFROM:-0500
TZOFFSETTO:-0400
TZNAME:EDT
DTSTART:20250309T070000
END:DAYLIGHT
BEGIN:STANDARD
TZOFFSETFROM:-0400
TZOFFSETTO:-0500
TZNAME:EST
DTSTART:20251102T060000
END:STANDARD
END:VTIMEZONE
BEGIN:VEVENT
DTSTART;TZID=America/New_York:20241118T083000
DTEND;TZID=America/New_York:20241119T173000
DTSTAMP:20260421T130613
CREATED:20241016T185143Z
LAST-MODIFIED:20241016T185143Z
UID:10000228-1731918600-1732037400@isd-inc.com
SUMMARY:Foundations of Capability
DESCRIPTION:ISD is the oldest serving Partner\, having been established in 1994 as a spin-off from the Software Engineering Institute. The Foundations of Capability is the entry level training in CMMI V3.0. This two-day class includes all materials\, 30-day online model viewer access\, and one credit for the CMMI Associates Exam. Join ISD\, and your Certified Instructor Paul Byrnes\, the most experienced CMMI Partner in the world.
URL:https://isd-inc.com/event/foundations-of-capability-23/
LOCATION:Online\, United States
ORGANIZER;CN="ISD":MAILTO:info@isd-inc.com
END:VEVENT
BEGIN:VEVENT
DTSTART;TZID=America/New_York:20241120T083000
DTEND;TZID=America/New_York:20241120T173000
DTSTAMP:20260421T130613
CREATED:20241016T184524Z
LAST-MODIFIED:20241016T184524Z
UID:10000225-1732091400-1732123800@isd-inc.com
SUMMARY:Building Development Excellence
DESCRIPTION:ISD is the oldest serving Partner\, having been established in 1994 as a spin-off from the Software Engineering Institute. Building Development Excellence is a follow-on course to build your skills relative to the development domain. Foundations of Capability is a pre-requisites to registering for this class. This one-day class includes all materials\, 30-day online model viewer access. Join ISD\, and your Certified Instructor Paul Byrnes\, the most experienced CMMI Partner in the world.
URL:https://isd-inc.com/event/building-development-excellence-23/
LOCATION:Online\, United States
ORGANIZER;CN="ISD":MAILTO:info@isd-inc.com
END:VEVENT
BEGIN:VEVENT
DTSTART;TZID=America/New_York:20241121T083000
DTEND;TZID=America/New_York:20241121T173000
DTSTAMP:20260421T130613
CREATED:20241016T184414Z
LAST-MODIFIED:20241016T184414Z
UID:10000224-1732177800-1732210200@isd-inc.com
SUMMARY:Building Service Excellence
DESCRIPTION:ISD is the oldest serving Partner\, having been established in 1994 as a spin-off from the Software Engineering Institute. Building Service Excellence is a follow-on course to build your skills relative to the service delivery domain. Foundations of Capability is a pre-requisites to registering for this class. This one-day class includes all materials\, 30-day online model viewer access. Join ISD\, and your Certified Instructor Paul Byrnes\, the most experienced CMMI Partner in the world.
URL:https://isd-inc.com/event/building-service-excellence-21/
LOCATION:Online\, United States
ORGANIZER;CN="ISD":MAILTO:info@isd-inc.com
END:VEVENT
END:VCALENDAR