BEGIN:VCALENDAR
VERSION:2.0
PRODID:-//ISD - ECPv6.15.20//NONSGML v1.0//EN
CALSCALE:GREGORIAN
METHOD:PUBLISH
X-WR-CALNAME:ISD
X-ORIGINAL-URL:https://isd-inc.com
X-WR-CALDESC:Events for ISD
REFRESH-INTERVAL;VALUE=DURATION:PT1H
X-Robots-Tag:noindex
X-PUBLISHED-TTL:PT1H
BEGIN:VTIMEZONE
TZID:America/New_York
BEGIN:DAYLIGHT
TZOFFSETFROM:-0500
TZOFFSETTO:-0400
TZNAME:EDT
DTSTART:20230312T070000
END:DAYLIGHT
BEGIN:STANDARD
TZOFFSETFROM:-0400
TZOFFSETTO:-0500
TZNAME:EST
DTSTART:20231105T060000
END:STANDARD
BEGIN:DAYLIGHT
TZOFFSETFROM:-0500
TZOFFSETTO:-0400
TZNAME:EDT
DTSTART:20240310T070000
END:DAYLIGHT
BEGIN:STANDARD
TZOFFSETFROM:-0400
TZOFFSETTO:-0500
TZNAME:EST
DTSTART:20241103T060000
END:STANDARD
BEGIN:DAYLIGHT
TZOFFSETFROM:-0500
TZOFFSETTO:-0400
TZNAME:EDT
DTSTART:20250309T070000
END:DAYLIGHT
BEGIN:STANDARD
TZOFFSETFROM:-0400
TZOFFSETTO:-0500
TZNAME:EST
DTSTART:20251102T060000
END:STANDARD
END:VTIMEZONE
BEGIN:VEVENT
DTSTART;TZID=America/New_York:20240812T083000
DTEND;TZID=America/New_York:20240815T173000
DTSTAMP:20260421T171408
CREATED:20240614T133053Z
LAST-MODIFIED:20240614T133053Z
UID:10000144-1723451400-1723743000@isd-inc.com
SUMMARY:Building Organizational Capability
DESCRIPTION:ISD is the oldest serving Partner\, having been established in 1994 as a spin-off from the Software Engineering Institute. Building Organizational Capability (BOC) is foundational training in the CMMI V3.0 model\, including all core practice areas and all domain specific practice areas. This four-day class includes all materials\, 30-day online model viewer access\, and one credit for the CMMI Practitioner Exam. Practitioner certification enables the student to participate as a team member in any Level 2-3 appraisal. Join ISD\, and your day Certified Instructor Paul Byrnes\, the most experienced CMMI Partner in the world.
URL:https://isd-inc.com/event/building-organizational-capability/
LOCATION:Online\, United States
ORGANIZER;CN="ISD":MAILTO:info@isd-inc.com
END:VEVENT
BEGIN:VEVENT
DTSTART;TZID=America/New_York:20240816T083000
DTEND;TZID=America/New_York:20240816T173000
DTSTAMP:20260421T171408
CREATED:20240614T133604Z
LAST-MODIFIED:20240614T133604Z
UID:10000215-1723797000-1723829400@isd-inc.com
SUMMARY:High Maturity Concepts
DESCRIPTION:ISD is the oldest serving Partner\, having been established in 1994 as a spin-off from the Software Engineering Institute. High Maturity Concepts is an advanced capability building class. Focusing on quantitative management practices and techniques. High Maturity Concepts is a follow-on course to build your skills relative to high maturity capability. Foundations of Capability  and one of the Building Excellence courses are pre-requisites to registering for this class. This one-day class includes all materials\, 30-day online model viewer access. Join ISD\, the most experienced CMMI Partner in the world\, and Paul Byrnes\, one of the most respected high maturity experts worldwide.
URL:https://isd-inc.com/event/high-maturity-concepts-24/
LOCATION:Online\, United States
ORGANIZER;CN="ISD":MAILTO:info@isd-inc.com
END:VEVENT
END:VCALENDAR